Package: BiocParallel Version: 1.41.0 Command: rm -rf BiocParallel.buildbin-libdir && mkdir BiocParallel.buildbin-libdir && /Users/biocbuild/BBS/utils/build-universal.sh BiocParallel_1.41.0.tar.gz /Library/Frameworks/R.framework/Resources/bin/R BiocParallel.buildbin-libdir StartedAt: 2025-02-05 00:30:18 -0500 (Wed, 05 Feb 2025) EndedAt: 2025-02-05 00:30:50 -0500 (Wed, 05 Feb 2025) EllapsedTime: 32.6 seconds RetCode: 0 Status: OK PackageFile: BiocParallel_1.41.0.tgz PackageFileSize: 1.535 MiB