Package: BiocParallel Version: 1.41.0 Command: /Library/Frameworks/R.framework/Resources/bin/R CMD check --install=check:BiocParallel.install-out.txt --library=/Library/Frameworks/R.framework/Resources/library --no-vignettes --timings BiocParallel_1.41.0.tar.gz StartedAt: 2025-02-04 19:09:49 -0500 (Tue, 04 Feb 2025) EndedAt: 2025-02-04 19:18:44 -0500 (Tue, 04 Feb 2025) EllapsedTime: 535.4 seconds RetCode: 0 Status: OK CheckDir: BiocParallel.Rcheck Warnings: 0