Package: BiocParallel Version: 1.41.0 Command: /home/biocbuild/bbs-3.21-bioc/R/bin/R CMD build --keep-empty-dirs --no-resave-data BiocParallel StartedAt: 2025-02-09 16:22:34 -0500 (Sun, 09 Feb 2025) EndedAt: 2025-02-09 16:24:31 -0500 (Sun, 09 Feb 2025) EllapsedTime: 117.2 seconds RetCode: 0 Status: OK PackageFile: BiocParallel_1.41.0.tar.gz PackageFileSize: 973.9 KiB