Package: BiocParallel Version: 1.41.0 Command: /home/biocbuild/bbs-3.21-bioc/R/bin/R CMD check --install=check:BiocParallel.install-out.txt --library=/home/biocbuild/bbs-3.21-bioc/R/site-library --timings BiocParallel_1.41.0.tar.gz StartedAt: 2025-02-04 20:21:24 -0500 (Tue, 04 Feb 2025) EndedAt: 2025-02-04 20:28:19 -0500 (Tue, 04 Feb 2025) EllapsedTime: 414.9 seconds RetCode: 0 Status: OK CheckDir: BiocParallel.Rcheck Warnings: 0