Package: BiocParallel Version: 1.41.0 Command: rm -rf BiocParallel.buildbin-libdir && mkdir BiocParallel.buildbin-libdir && E:\biocbuild\bbs-3.21-bioc\R\bin\R.exe CMD INSTALL --build --library=BiocParallel.buildbin-libdir BiocParallel_1.41.0.tar.gz StartedAt: 2025-02-10 07:18:04 -0500 (Mon, 10 Feb 2025) EndedAt: 2025-02-10 07:21:33 -0500 (Mon, 10 Feb 2025) EllapsedTime: 208.2 seconds RetCode: 0 Status: OK PackageFile: BiocParallel_1.41.0.zip PackageFileSize: 1.863 MiB