Package: BiocParallel Version: 1.41.0 Command: chmod a+r BiocParallel -R && E:\biocbuild\bbs-3.21-bioc\R\bin\R.exe CMD build --keep-empty-dirs --no-resave-data BiocParallel StartedAt: 2025-02-09 17:29:12 -0500 (Sun, 09 Feb 2025) EndedAt: 2025-02-09 17:33:24 -0500 (Sun, 09 Feb 2025) EllapsedTime: 251.9 seconds RetCode: 0 Status: OK PackageFile: BiocParallel_1.41.0.tar.gz PackageFileSize: 977.1 KiB