Package: BiocParallel Version: 1.41.0 Command: E:\biocbuild\bbs-3.21-bioc\R\bin\R.exe CMD check --no-multiarch --install=check:BiocParallel.install-out.txt --library=E:\biocbuild\bbs-3.21-bioc\R\library --no-vignettes --timings BiocParallel_1.41.0.tar.gz StartedAt: 2025-02-09 23:00:53 -0500 (Sun, 09 Feb 2025) EndedAt: 2025-02-09 23:11:06 -0500 (Sun, 09 Feb 2025) EllapsedTime: 613.4 seconds RetCode: 0 Status: OK CheckDir: BiocParallel.Rcheck Warnings: 0