Package: BiocParallel Version: 1.41.0 Command: E:\biocbuild\bbs-3.21-bioc\R\bin\R.exe CMD INSTALL BiocParallel StartedAt: 2025-02-12 15:34:26 -0500 (Wed, 12 Feb 2025) EndedAt: 2025-02-12 15:37:05 -0500 (Wed, 12 Feb 2025) EllapsedTime: 159.2 seconds RetCode: 0 Status: OK