Package: BiocPkgTools Version: 1.25.2 Maintainer: Sean Davis MaintainerEmail: seandavi at gmail.com git_url: https://git.bioconductor.org/packages/BiocPkgTools git_branch: devel git_last_commit: 19ff678 git_last_commit_date: 2024-11-01 19:43:38 -0500 (Fri, 01 Nov 2024)