Package: BiocPkgTools Version: 1.25.2 Command: /Library/Frameworks/R.framework/Resources/bin/R CMD build --keep-empty-dirs --no-resave-data BiocPkgTools StartedAt: 2025-02-09 15:40:46 -0500 (Sun, 09 Feb 2025) EndedAt: 2025-02-09 15:54:51 -0500 (Sun, 09 Feb 2025) EllapsedTime: 844.9 seconds RetCode: 0 Status: OK PackageFile: BiocPkgTools_1.25.2.tar.gz PackageFileSize: 1.443 MiB