Package: BiocPkgTools Version: 1.25.2 Command: /Library/Frameworks/R.framework/Resources/bin/R CMD check --install=check:BiocPkgTools.install-out.txt --library=/Library/Frameworks/R.framework/Resources/library --no-vignettes --timings BiocPkgTools_1.25.2.tar.gz StartedAt: 2025-02-09 18:16:06 -0500 (Sun, 09 Feb 2025) EndedAt: 2025-02-09 18:18:14 -0500 (Sun, 09 Feb 2025) EllapsedTime: 127.6 seconds RetCode: 0 Status: OK CheckDir: BiocPkgTools.Rcheck Warnings: 0