Package: BiocPkgTools Version: 1.25.2 Command: /Library/Frameworks/R.framework/Resources/bin/R CMD INSTALL BiocPkgTools StartedAt: 2025-02-12 15:15:26 -0500 (Wed, 12 Feb 2025) EndedAt: 2025-02-12 15:15:30 -0500 (Wed, 12 Feb 2025) EllapsedTime: 3.8 seconds RetCode: 0 Status: OK