Package: BiocPkgTools Version: 1.25.2 Command: rm -rf BiocPkgTools.buildbin-libdir && mkdir BiocPkgTools.buildbin-libdir && /Users/biocbuild/BBS/utils/build-universal.sh BiocPkgTools_1.25.2.tar.gz /Library/Frameworks/R.framework/Resources/bin/R BiocPkgTools.buildbin-libdir StartedAt: 2025-02-13 00:27:09 -0500 (Thu, 13 Feb 2025) EndedAt: 2025-02-13 00:27:27 -0500 (Thu, 13 Feb 2025) EllapsedTime: 17.6 seconds RetCode: 0 Status: OK PackageFile: BiocPkgTools_1.25.2.tgz PackageFileSize: 1.619 MiB