Package: BiocPkgTools Version: 1.25.2 Command: /Library/Frameworks/R.framework/Resources/bin/R CMD INSTALL BiocPkgTools StartedAt: 2025-02-09 15:25:35 -0500 (Sun, 09 Feb 2025) EndedAt: 2025-02-09 15:25:49 -0500 (Sun, 09 Feb 2025) EllapsedTime: 14.6 seconds RetCode: 0 Status: OK