Package: BiocPkgTools Version: 1.25.2 Command: /home/biocbuild/bbs-3.21-bioc/R/bin/R CMD build --keep-empty-dirs --no-resave-data BiocPkgTools StartedAt: 2025-02-09 16:22:36 -0500 (Sun, 09 Feb 2025) EndedAt: 2025-02-09 16:30:06 -0500 (Sun, 09 Feb 2025) EllapsedTime: 449.5 seconds RetCode: 0 Status: OK PackageFile: BiocPkgTools_1.25.2.tar.gz PackageFileSize: 1.443 MiB