Package: BiocPkgTools Version: 1.25.2 Command: /home/biocbuild/bbs-3.21-bioc/R/bin/R CMD check --install=check:BiocPkgTools.install-out.txt --library=/home/biocbuild/bbs-3.21-bioc/R/site-library --timings BiocPkgTools_1.25.2.tar.gz StartedAt: 2025-02-09 20:24:24 -0500 (Sun, 09 Feb 2025) EndedAt: 2025-02-09 20:29:23 -0500 (Sun, 09 Feb 2025) EllapsedTime: 298.5 seconds RetCode: 0 Status: OK CheckDir: BiocPkgTools.Rcheck Warnings: 0