Package: BiocPkgTools Version: 1.25.2 Command: /home/biocbuild/bbs-3.21-bioc/R/bin/R CMD INSTALL BiocPkgTools StartedAt: 2025-02-09 15:14:02 -0500 (Sun, 09 Feb 2025) EndedAt: 2025-02-09 15:14:11 -0500 (Sun, 09 Feb 2025) EllapsedTime: 9.6 seconds RetCode: 0 Status: OK