Package: BiocSet Version: 1.21.0 Command: /Library/Frameworks/R.framework/Resources/bin/R CMD build --keep-empty-dirs --no-resave-data BiocSet StartedAt: 2025-02-12 16:01:16 -0500 (Wed, 12 Feb 2025) EndedAt: 2025-02-12 16:05:22 -0500 (Wed, 12 Feb 2025) EllapsedTime: 245.4 seconds RetCode: 0 Status: OK PackageFile: BiocSet_1.21.0.tar.gz PackageFileSize: 358.9 KiB