Package: BiocSet Version: 1.21.0 Command: rm -rf BiocSet.buildbin-libdir && mkdir BiocSet.buildbin-libdir && E:\biocbuild\bbs-3.21-bioc\R\bin\R.exe CMD INSTALL --build --library=BiocSet.buildbin-libdir BiocSet_1.21.0.tar.gz StartedAt: 2025-02-10 07:18:10 -0500 (Mon, 10 Feb 2025) EndedAt: 2025-02-10 07:19:12 -0500 (Mon, 10 Feb 2025) EllapsedTime: 61.7 seconds RetCode: 0 Status: OK PackageFile: BiocSet_1.21.0.zip PackageFileSize: 780.5 KiB