Package: BiocSet Version: 1.21.0 Command: E:\biocbuild\bbs-3.21-bioc\R\bin\R.exe CMD INSTALL BiocSet StartedAt: 2025-02-09 15:45:18 -0500 (Sun, 09 Feb 2025) EndedAt: 2025-02-09 15:46:10 -0500 (Sun, 09 Feb 2025) EllapsedTime: 52.6 seconds RetCode: 0 Status: OK