Package: BiocSingular Version: 1.23.0 Command: rm -rf BiocSingular.buildbin-libdir && mkdir BiocSingular.buildbin-libdir && /Users/biocbuild/BBS/utils/build-universal.sh BiocSingular_1.23.0.tar.gz /Library/Frameworks/R.framework/Resources/bin/R BiocSingular.buildbin-libdir StartedAt: 2025-02-09 22:07:23 -0500 (Sun, 09 Feb 2025) EndedAt: 2025-02-09 22:07:36 -0500 (Sun, 09 Feb 2025) EllapsedTime: 12.3 seconds RetCode: 0 Status: OK PackageFile: BiocSingular_1.23.0.tgz PackageFileSize: 925.9 KiB