Package: BiocSingular Version: 1.23.0 Command: /Library/Frameworks/R.framework/Resources/bin/R CMD check --install=check:BiocSingular.install-out.txt --library=/Library/Frameworks/R.framework/Resources/library --no-vignettes --timings BiocSingular_1.23.0.tar.gz StartedAt: 2025-02-09 18:16:12 -0500 (Sun, 09 Feb 2025) EndedAt: 2025-02-09 18:17:13 -0500 (Sun, 09 Feb 2025) EllapsedTime: 60.8 seconds RetCode: 0 Status: WARNINGS CheckDir: BiocSingular.Rcheck Warnings: 1