Package: BiocSingular Version: 1.23.0 Command: /home/biocbuild/R/R/bin/R CMD check --install=check:BiocSingular.install-out.txt --library=/home/biocbuild/R/R/site-library --no-vignettes --timings BiocSingular_1.23.0.tar.gz StartedAt: 2025-01-28 03:54:34 -0000 (Tue, 28 Jan 2025) EndedAt: 2025-01-28 08:30:01 -0000 (Tue, 28 Jan 2025) EllapsedTime: 16527.4 seconds RetCode: None Status: TIMEOUT CheckDir: BiocSingular.Rcheck Warnings: NA