Package: BiocSingular Version: 1.23.0 Command: /home/biocbuild/R/R/bin/R CMD INSTALL BiocSingular StartedAt: 2025-01-29 20:26:32 -0000 (Wed, 29 Jan 2025) EndedAt: 2025-01-29 20:27:12 -0000 (Wed, 29 Jan 2025) EllapsedTime: 40.6 seconds RetCode: 0 Status: OK