Package: BiocSingular Version: 1.23.0 Command: /Library/Frameworks/R.framework/Resources/bin/R CMD build --keep-empty-dirs --no-resave-data BiocSingular StartedAt: 2025-02-04 16:00:43 -0500 (Tue, 04 Feb 2025) EndedAt: 2025-02-04 16:01:24 -0500 (Tue, 04 Feb 2025) EllapsedTime: 41.2 seconds RetCode: 0 Status: OK PackageFile: BiocSingular_1.23.0.tar.gz PackageFileSize: 602.2 KiB