Package: BiocSingular Version: 1.23.0 Command: /Library/Frameworks/R.framework/Resources/bin/R CMD INSTALL BiocSingular StartedAt: 2025-02-09 15:38:46 -0500 (Sun, 09 Feb 2025) EndedAt: 2025-02-09 15:39:24 -0500 (Sun, 09 Feb 2025) EllapsedTime: 37.8 seconds RetCode: 0 Status: OK