Package: BiocSingular Version: 1.23.0 Command: /home/biocbuild/bbs-3.21-bioc/R/bin/R CMD check --install=check:BiocSingular.install-out.txt --library=/home/biocbuild/bbs-3.21-bioc/R/site-library --timings BiocSingular_1.23.0.tar.gz StartedAt: 2025-02-04 20:21:48 -0500 (Tue, 04 Feb 2025) EndedAt: 2025-02-04 20:24:51 -0500 (Tue, 04 Feb 2025) EllapsedTime: 183.4 seconds RetCode: 0 Status: WARNINGS CheckDir: BiocSingular.Rcheck Warnings: 1