Package: BiocSingular Version: 1.23.0 Command: rm -rf BiocSingular.buildbin-libdir && mkdir BiocSingular.buildbin-libdir && E:\biocbuild\bbs-3.21-bioc\R\bin\R.exe CMD INSTALL --build --library=BiocSingular.buildbin-libdir BiocSingular_1.23.0.tar.gz StartedAt: 2025-02-10 07:18:11 -0500 (Mon, 10 Feb 2025) EndedAt: 2025-02-10 07:19:18 -0500 (Mon, 10 Feb 2025) EllapsedTime: 66.7 seconds RetCode: 0 Status: OK PackageFile: BiocSingular_1.23.0.zip PackageFileSize: 1.218 MiB