Package: BiocSingular Version: 1.23.0 Command: chmod a+r BiocSingular -R && E:\biocbuild\bbs-3.21-bioc\R\bin\R.exe CMD build --keep-empty-dirs --no-resave-data BiocSingular StartedAt: 2025-02-09 17:29:36 -0500 (Sun, 09 Feb 2025) EndedAt: 2025-02-09 17:30:51 -0500 (Sun, 09 Feb 2025) EllapsedTime: 74.7 seconds RetCode: 0 Status: OK PackageFile: BiocSingular_1.23.0.tar.gz PackageFileSize: 602.5 KiB