Package: BiocSingular Version: 1.23.0 Command: E:\biocbuild\bbs-3.21-bioc\R\bin\R.exe CMD check --no-multiarch --install=check:BiocSingular.install-out.txt --library=E:\biocbuild\bbs-3.21-bioc\R\library --no-vignettes --timings BiocSingular_1.23.0.tar.gz StartedAt: 2025-02-09 23:01:12 -0500 (Sun, 09 Feb 2025) EndedAt: 2025-02-09 23:06:06 -0500 (Sun, 09 Feb 2025) EllapsedTime: 293.9 seconds RetCode: 0 Status: WARNINGS CheckDir: BiocSingular.Rcheck Warnings: 1