Package: BiocVersion Version: 3.21.1 Command: /Library/Frameworks/R.framework/Resources/bin/R CMD INSTALL BiocVersion StartedAt: 2025-02-12 15:01:12 -0500 (Wed, 12 Feb 2025) EndedAt: 2025-02-12 15:01:16 -0500 (Wed, 12 Feb 2025) EllapsedTime: 3.5 seconds RetCode: 0 Status: OK