Package: BiocVersion Version: 3.21.1 Command: /home/biocbuild/bbs-3.21-bioc/R/bin/R CMD build --keep-empty-dirs --no-resave-data BiocVersion StartedAt: 2025-02-09 16:23:11 -0500 (Sun, 09 Feb 2025) EndedAt: 2025-02-09 16:23:12 -0500 (Sun, 09 Feb 2025) EllapsedTime: 1.0 seconds RetCode: 0 Status: OK PackageFile: BiocVersion_3.21.1.tar.gz PackageFileSize: 998 bytes