Package: BiocVersion Version: 3.21.1 Command: /home/biocbuild/bbs-3.21-bioc/R/bin/R CMD INSTALL BiocVersion StartedAt: 2025-02-12 15:05:03 -0500 (Wed, 12 Feb 2025) EndedAt: 2025-02-12 15:05:25 -0500 (Wed, 12 Feb 2025) EllapsedTime: 21.2 seconds RetCode: 0 Status: OK