Package: BloodGen3Module Version: 1.15.0 Command: /home/biocbuild/R/R/bin/R CMD INSTALL BloodGen3Module StartedAt: 2025-01-29 20:29:04 -0000 (Wed, 29 Jan 2025) EndedAt: 2025-01-29 20:29:18 -0000 (Wed, 29 Jan 2025) EllapsedTime: 14.2 seconds RetCode: 1 Status: ERROR