Package: BloodGen3Module Version: 1.15.0 Command: /home/biocbuild/bbs-3.21-bioc/R/bin/R CMD INSTALL BloodGen3Module StartedAt: 2025-02-09 15:25:38 -0500 (Sun, 09 Feb 2025) EndedAt: 2025-02-09 15:26:10 -0500 (Sun, 09 Feb 2025) EllapsedTime: 32.3 seconds RetCode: 0 Status: OK