Package: BloodGen3Module Version: 1.15.0 Command: E:\biocbuild\bbs-3.21-bioc\R\bin\R.exe CMD check --no-multiarch --install=check:BloodGen3Module.install-out.txt --library=E:\biocbuild\bbs-3.21-bioc\R\library --no-vignettes --timings BloodGen3Module_1.15.0.tar.gz StartedAt: 2025-02-09 23:10:51 -0500 (Sun, 09 Feb 2025) EndedAt: 2025-02-09 23:16:56 -0500 (Sun, 09 Feb 2025) EllapsedTime: 364.7 seconds RetCode: 0 Status: WARNINGS CheckDir: BloodGen3Module.Rcheck Warnings: 1