Package: BloodGen3Module Version: 1.15.0 Command: E:\biocbuild\bbs-3.21-bioc\R\bin\R.exe CMD INSTALL BloodGen3Module StartedAt: 2025-02-09 16:56:16 -0500 (Sun, 09 Feb 2025) EndedAt: 2025-02-09 16:57:07 -0500 (Sun, 09 Feb 2025) EllapsedTime: 51.0 seconds RetCode: 0 Status: OK