Package: BridgeDbR Version: 2.17.1 Command: rm -rf BridgeDbR.buildbin-libdir && mkdir BridgeDbR.buildbin-libdir && /Users/biocbuild/BBS/utils/build-universal.sh BridgeDbR_2.17.1.tar.gz /Library/Frameworks/R.framework/Resources/bin/R BridgeDbR.buildbin-libdir StartedAt: 2025-02-09 22:07:56 -0500 (Sun, 09 Feb 2025) EndedAt: 2025-02-09 22:07:59 -0500 (Sun, 09 Feb 2025) EllapsedTime: 3.1 seconds RetCode: 0 Status: OK PackageFile: BridgeDbR_2.17.1.tgz PackageFileSize: 4.584 MiB