Package: BridgeDbR Version: 2.17.1 Command: /home/biocbuild/R/R/bin/R CMD build --keep-empty-dirs --no-resave-data BridgeDbR StartedAt: 2025-01-28 21:28:11 -0000 (Tue, 28 Jan 2025) EndedAt: 2025-01-28 21:28:20 -0000 (Tue, 28 Jan 2025) EllapsedTime: 9.0 seconds RetCode: 0 Status: OK PackageFile: BridgeDbR_2.17.1.tar.gz PackageFileSize: 4.68 MiB