Package: BridgeDbR Version: 2.17.1 Command: rm -rf BridgeDbR.buildbin-libdir && mkdir BridgeDbR.buildbin-libdir && /Users/biocbuild/BBS/utils/build-universal.sh BridgeDbR_2.17.1.tar.gz /Library/Frameworks/R.framework/Resources/bin/R BridgeDbR.buildbin-libdir StartedAt: 2025-02-10 00:44:35 -0500 (Mon, 10 Feb 2025) EndedAt: 2025-02-10 00:44:42 -0500 (Mon, 10 Feb 2025) EllapsedTime: 6.8 seconds RetCode: 0 Status: OK PackageFile: BridgeDbR_2.17.1.tgz PackageFileSize: 4.583 MiB