Package: BridgeDbR Version: 2.17.1 Command: /Library/Frameworks/R.framework/Resources/bin/R CMD check --install=check:BridgeDbR.install-out.txt --library=/Library/Frameworks/R.framework/Resources/library --no-vignettes --timings BridgeDbR_2.17.1.tar.gz StartedAt: 2025-02-09 19:29:36 -0500 (Sun, 09 Feb 2025) EndedAt: 2025-02-09 19:30:23 -0500 (Sun, 09 Feb 2025) EllapsedTime: 47.4 seconds RetCode: 0 Status: OK CheckDir: BridgeDbR.Rcheck Warnings: 0