Package: BridgeDbR Version: 2.17.1 Command: /Library/Frameworks/R.framework/Resources/bin/R CMD INSTALL BridgeDbR StartedAt: 2025-02-09 15:03:30 -0500 (Sun, 09 Feb 2025) EndedAt: 2025-02-09 15:03:50 -0500 (Sun, 09 Feb 2025) EllapsedTime: 20.5 seconds RetCode: 0 Status: OK