Package: BridgeDbR Version: 2.17.1 Command: /home/biocbuild/bbs-3.21-bioc/R/bin/R CMD check --install=check:BridgeDbR.install-out.txt --library=/home/biocbuild/bbs-3.21-bioc/R/site-library --timings BridgeDbR_2.17.1.tar.gz StartedAt: 2025-02-04 20:31:49 -0500 (Tue, 04 Feb 2025) EndedAt: 2025-02-04 20:32:19 -0500 (Tue, 04 Feb 2025) EllapsedTime: 30.1 seconds RetCode: 0 Status: OK CheckDir: BridgeDbR.Rcheck Warnings: 0