Package: BridgeDbR Version: 2.17.1 Command: rm -rf BridgeDbR.buildbin-libdir && mkdir BridgeDbR.buildbin-libdir && E:\biocbuild\bbs-3.21-bioc\R\bin\R.exe CMD INSTALL --build --library=BridgeDbR.buildbin-libdir BridgeDbR_2.17.1.tar.gz StartedAt: 2025-02-04 07:35:41 -0500 (Tue, 04 Feb 2025) EndedAt: 2025-02-04 07:35:56 -0500 (Tue, 04 Feb 2025) EllapsedTime: 14.3 seconds RetCode: 0 Status: OK PackageFile: BridgeDbR_2.17.1.zip PackageFileSize: 4.586 MiB