Package: BridgeDbR Version: 2.17.1 Command: chmod a+r BridgeDbR -R && E:\biocbuild\bbs-3.21-bioc\R\bin\R.exe CMD build --keep-empty-dirs --no-resave-data BridgeDbR StartedAt: 2025-02-04 17:33:37 -0500 (Tue, 04 Feb 2025) EndedAt: 2025-02-04 17:34:02 -0500 (Tue, 04 Feb 2025) EllapsedTime: 24.9 seconds RetCode: 0 Status: OK PackageFile: BridgeDbR_2.17.1.tar.gz PackageFileSize: 4.615 MiB