Package: BridgeDbR Version: 2.17.1 Command: E:\biocbuild\bbs-3.21-bioc\R\bin\R.exe CMD check --no-multiarch --install=check:BridgeDbR.install-out.txt --library=E:\biocbuild\bbs-3.21-bioc\R\library --no-vignettes --timings BridgeDbR_2.17.1.tar.gz StartedAt: 2025-02-09 23:14:00 -0500 (Sun, 09 Feb 2025) EndedAt: 2025-02-09 23:14:45 -0500 (Sun, 09 Feb 2025) EllapsedTime: 45.0 seconds RetCode: 0 Status: OK CheckDir: BridgeDbR.Rcheck Warnings: 0