Package: BridgeDbR Version: 2.17.1 Command: E:\biocbuild\bbs-3.21-bioc\R\bin\R.exe CMD INSTALL BridgeDbR StartedAt: 2025-02-03 15:31:28 -0500 (Mon, 03 Feb 2025) EndedAt: 2025-02-03 15:31:49 -0500 (Mon, 03 Feb 2025) EllapsedTime: 20.4 seconds RetCode: 0 Status: OK