Package: BrowserViz Version: 2.29.0 Command: rm -rf BrowserViz.buildbin-libdir && mkdir BrowserViz.buildbin-libdir && /Users/biocbuild/BBS/utils/build-universal.sh BrowserViz_2.29.0.tar.gz /Library/Frameworks/R.framework/Resources/bin/R BrowserViz.buildbin-libdir StartedAt: 2025-02-09 22:07:57 -0500 (Sun, 09 Feb 2025) EndedAt: 2025-02-09 22:07:59 -0500 (Sun, 09 Feb 2025) EllapsedTime: 2.0 seconds RetCode: 0 Status: OK PackageFile: BrowserViz_2.29.0.tgz PackageFileSize: 415.7 KiB