Package: BrowserViz Version: 2.29.0 Command: /Library/Frameworks/R.framework/Resources/bin/R CMD build --keep-empty-dirs --no-resave-data BrowserViz StartedAt: 2025-02-09 15:45:03 -0500 (Sun, 09 Feb 2025) EndedAt: 2025-02-09 15:45:06 -0500 (Sun, 09 Feb 2025) EllapsedTime: 3.0 seconds RetCode: 0 Status: OK PackageFile: BrowserViz_2.29.0.tar.gz PackageFileSize: 240.9 KiB