Package: BrowserViz Version: 2.29.0 Command: /Library/Frameworks/R.framework/Resources/bin/R CMD INSTALL BrowserViz StartedAt: 2025-02-09 15:03:24 -0500 (Sun, 09 Feb 2025) EndedAt: 2025-02-09 15:03:32 -0500 (Sun, 09 Feb 2025) EllapsedTime: 7.4 seconds RetCode: 0 Status: OK